BEGIN:VCALENDAR
VERSION:2.0
PRODID:-//ChamberMaster//Event Calendar 2.0//EN
METHOD:PUBLISH
X-PUBLISHED-TTL:P3D
REFRESH-INTERVAL:P3D
CALSCALE:GREGORIAN
BEGIN:VEVENT
DTSTART;VALUE=DATE:20190402
DTEND;VALUE=DATE:20190403
TRANSP:TRANSPARENT
X-MICROSOFT-CDO-ALLDAYEVENT:TRUE
SUMMARY:Workshop- The Power of Meaning
DESCRIPTION:The increasing number of millennials and younger employees who make up the workforce is requiring leaders to pay attention to workplace culture in order to succeed in fulfilling their mission. One approach is to build workplace cultures that are grounded in meaning and that foster meaning in their team members' lives. If you manage an organization or lead a team\, this workshop will provide you with:\n\n* an overview of the importance of meaning in the workplace\;  \n\n* an introduction to four essential "pillars of meaning\;" \n\n* an invitation to reflect on your own experience of the four pillars\; and\, \n\n* practical ways to incorporate the four pillars into your workplace culture.
X-ALT-DESC;FMTTYPE=text/html:<div style="color: rgb(34\, 34\, 34)\; font-family: Arial\, Helvetica\, sans-serif\; font-size: small\;">The increasing number of millennials and younger employees who make up the workforce is requiring leaders to pay attention to workplace culture in order to succeed in fulfilling their mission. One approach is to build workplace cultures that are grounded in&nbsp\;<b><i>meaning</i></b>&nbsp\;and that foster meaning in their team members&#39\; lives. If you manage an organization or lead a team\, this workshop will provide you with:</div>\n\n<div dir="auto" style="color: rgb(34\, 34\, 34)\; font-family: Arial\, Helvetica\, sans-serif\; font-size: small\;">* an overview of the importance of meaning in the workplace\;&nbsp\;&nbsp\;</div>\n\n<div dir="auto" style="color: rgb(34\, 34\, 34)\; font-family: Arial\, Helvetica\, sans-serif\; font-size: small\;">* an introduction to four essential &quot\;pillars of meaning\;&quot\;&nbsp\;</div>\n\n<div dir="auto" style="color: rgb(34\, 34\, 34)\; font-family: Arial\, Helvetica\, sans-serif\; font-size: small\;">* an invitation to reflect on your own experience of the four pillars\; and\,&nbsp\;</div>\n\n<div dir="auto" style="color: rgb(34\, 34\, 34)\; font-family: Arial\, Helvetica\, sans-serif\; font-size: small\;">* practical ways to incorporate the four pillars into your workplace culture.</div>\n
LOCATION:Greater Mission Chamber of Commerce- Conference Center 202 W. Tom Landry Mission\, TX 78572
UID:e.3477.4
SEQUENCE:3
DTSTAMP:20260422T182515Z
URL:https://members.missionchamber.com/events/details/workshop-the-power-of-meaning-4
END:VEVENT

END:VCALENDAR
