BEGIN:VCALENDAR
VERSION:2.0
PRODID:-//ChamberMaster//Event Calendar 2.0//EN
METHOD:PUBLISH
X-PUBLISHED-TTL:P3D
REFRESH-INTERVAL:P3D
CALSCALE:GREGORIAN
BEGIN:VEVENT
DTSTART:20200303T160000Z
DTEND:20200303T173000Z
X-MICROSOFT-CDO-ALLDAYEVENT:FALSE
SUMMARY:Workshop: Grant writing & Development 101
DESCRIPTION:The GMCC invites you to a workshop of an Introduction to the basics of  Grantwriting to develop your projects specific to you needs.
X-ALT-DESC;FMTTYPE=text/html:The GMCC invites you to a workshop of an Introduction to the basics of&nbsp\; Grantwriting to develop your projects specific to you needs.
LOCATION:202 W. Tom Landry St Mission TX 78572
UID:e.3477.66
SEQUENCE:3
DTSTAMP:20260424T133527Z
URL:https://members.missionchamber.com/events/details/workshop-grant-writing-development-101-66
END:VEVENT

END:VCALENDAR
