BEGIN:VCALENDAR
VERSION:2.0
PRODID:-//ChamberMaster//Event Calendar 2.0//EN
METHOD:PUBLISH
X-PUBLISHED-TTL:P3D
REFRESH-INTERVAL:P3D
CALSCALE:GREGORIAN
BEGIN:VEVENT
DTSTART:20191212T170000Z
DTEND:20191212T200000Z
X-MICROSOFT-CDO-ALLDAYEVENT:FALSE
SUMMARY:Winter Texan Homecoming
DESCRIPTION:Join Welcome Home RGV for a Winter Texan Homecoming like none other! Our third annual event - this year's venue is at the Mission Event Center.
X-ALT-DESC;FMTTYPE=text/html:Join Welcome Home RGV for a Winter Texan Homecoming like none other! Our third annual event - this year&#39\;s venue is at the Mission Event Center.
LOCATION:Mission Event Center 200 N. Mission TX 78572
UID:e.3477.24
SEQUENCE:3
DTSTAMP:20260422T061413Z
URL:https://members.missionchamber.com/events/details/winter-texan-homecoming-24
END:VEVENT

END:VCALENDAR
