BEGIN:VCALENDAR
VERSION:2.0
PRODID:-//ChamberMaster//Event Calendar 2.0//EN
METHOD:PUBLISH
X-PUBLISHED-TTL:P3D
REFRESH-INTERVAL:P3D
CALSCALE:GREGORIAN
BEGIN:VEVENT
DTSTART:20210622T150000Z
DTEND:20210622T170000Z
X-MICROSOFT-CDO-ALLDAYEVENT:FALSE
SUMMARY:The Data Behind Social Media
DESCRIPTION:How can small businesses use Social Media Data to create success?\n\nThis webinar is designed to inform small business owners how to effectively use Social Media Analytics to attract a target audience and build a winning marketing campaign.\n\nOptimizing your online presence will help entice\, retain\, and enthuse customers as well as generate revenue for the company. Join us to learn how Social Media Analytics can benefit any small business!\n\nWorkshop Highlights:\n\n-Understand how to use social media analytics.\n\n-Grow your business with data-driven decisions.\n\n-Reach your target audience with simple tools.\n\nThis webinar session is presented by Marketing Queen\, Patty Rojas of Monarch International as part of our Mastering Marketing & Social Media series.\n\nThis webinar is hosted by the UTRGV SBDC with promotional support by the Edinburg Chamber of Commerce\, Greater Mission Chamber of Commerce\, Greater Pharr Chamber of Commerce\, Palmview Chamber of Commerce\, Rio Grande City Greater Chamber of Commerce\, Rio Grande City Public Library\, San Benito Chamber of Commerce\, South Padre Island Chamber of Commerce\, and Weslaco Area Chamber of Commerce & Visitors Center.
X-ALT-DESC;FMTTYPE=text/html:<div animation-name:="" background-color:="" class="o9v6fnle cxmmr5t8 oygrvhab hcukyx3x c1et5uql" color:="" font-size:="" none="" segoe="" style="overflow-wrap: break-word\; margin: 0.5em 0px 0px\; font-family: " transition-property:="" ui="">How can small businesses use Social Media Data to create success?</div>\n\n<div animation-name:="" background-color:="" class="o9v6fnle cxmmr5t8 oygrvhab hcukyx3x c1et5uql" color:="" font-size:="" none="" segoe="" style="overflow-wrap: break-word\; margin: 0.5em 0px 0px\; font-family: " transition-property:="" ui="">This webinar is designed to inform small business owners how to effectively use Social Media Analytics to attract a target audience and build a winning marketing campaign.</div>\n\n<div animation-name:="" background-color:="" class="o9v6fnle cxmmr5t8 oygrvhab hcukyx3x c1et5uql" color:="" font-size:="" none="" segoe="" style="overflow-wrap: break-word\; margin: 0.5em 0px 0px\; font-family: " transition-property:="" ui="">Optimizing your online presence will help entice\, retain\, and enthuse customers as well as generate revenue for the company. Join us to learn how Social Media Analytics can benefit any small business!</div>\n\n<div animation-name:="" background-color:="" class="o9v6fnle cxmmr5t8 oygrvhab hcukyx3x c1et5uql" color:="" font-size:="" none="" segoe="" style="overflow-wrap: break-word\; margin: 0.5em 0px 0px\; font-family: " transition-property:="" ui="">Workshop Highlights:</div>\n\n<div animation-name:="" background-color:="" class="o9v6fnle cxmmr5t8 oygrvhab hcukyx3x c1et5uql" color:="" font-size:="" none="" segoe="" style="overflow-wrap: break-word\; margin: 0.5em 0px 0px\; font-family: " transition-property:="" ui="">-Understand how to use social media analytics.<br style="animation-name: none !important\; transition-property: none !important\;" />\n-Grow your business with data-driven decisions.<br style="animation-name: none !important\; transition-property: none !important\;" />\n-Reach your target audience with simple tools.</div>\n\n<div animation-name:="" background-color:="" class="o9v6fnle cxmmr5t8 oygrvhab hcukyx3x c1et5uql" color:="" font-size:="" none="" segoe="" style="overflow-wrap: break-word\; margin: 0.5em 0px 0px\; font-family: " transition-property:="" ui="">This webinar session is presented by Marketing Queen\, Patty Rojas of Monarch International as part of our Mastering Marketing &amp\; Social Media series.</div>\n\n<div animation-name:="" background-color:="" class="o9v6fnle cxmmr5t8 oygrvhab hcukyx3x c1et5uql" color:="" font-size:="" none="" segoe="" style="overflow-wrap: break-word\; margin: 0.5em 0px 0px\; font-family: " transition-property:="" ui="">This webinar is hosted by the UTRGV SBDC with promotional support by the Edinburg Chamber of Commerce\, Greater Mission Chamber of Commerce\, Greater Pharr Chamber of Commerce\, Palmview Chamber of Commerce\, Rio Grande City Greater Chamber of Commerce\, Rio Grande City Public Library\, San Benito Chamber of Commerce\, South Padre Island Chamber of Commerce\, and Weslaco Area Chamber of Commerce &amp\; Visitors Center.</div>\n
LOCATION:Online Event
UID:e.3477.399
SEQUENCE:3
DTSTAMP:20260421T171144Z
URL:https://members.missionchamber.com/events/details/the-data-behind-social-media-399
END:VEVENT

END:VCALENDAR
