BEGIN:VCALENDAR
VERSION:2.0
PRODID:-//ChamberMaster//Event Calendar 2.0//EN
METHOD:PUBLISH
X-PUBLISHED-TTL:P3D
REFRESH-INTERVAL:P3D
CALSCALE:GREGORIAN
BEGIN:VEVENT
DTSTART:20200125T210000Z
DTEND:20200125T230000Z
X-MICROSOFT-CDO-ALLDAYEVENT:FALSE
SUMMARY:Texas Citrus Fiesta - Parade of Oranges
DESCRIPTION:Theme: Space Odyssey Adventure\n\n For Information call 956-585-9724 \n\nEmail: info@texascitrusfiesta.org
X-ALT-DESC;FMTTYPE=text/html:Theme: Space Odyssey Adventure<br />\n&nbsp\;For Information call 956-585-9724&nbsp\;<br />\nEmail: info@texascitrusfiesta.org
LOCATION:Starts South on Conway Street Fm 495 to 1st St Mission Tx
UID:e.3477.27
SEQUENCE:3
DTSTAMP:20260422T034442Z
URL:https://members.missionchamber.com/events/details/texas-citrus-fiesta-parade-of-oranges-27
END:VEVENT

END:VCALENDAR
