BEGIN:VCALENDAR
VERSION:2.0
PRODID:-//ChamberMaster//Event Calendar 2.0//EN
METHOD:PUBLISH
X-PUBLISHED-TTL:P3D
REFRESH-INTERVAL:P3D
CALSCALE:GREGORIAN
BEGIN:VEVENT
DTSTART:20210611T010000Z
DTEND:20210611T023000Z
X-MICROSOFT-CDO-ALLDAYEVENT:FALSE
SUMMARY:Bentsen RGV State Park - Star Stories
DESCRIPTION:Learn about stars through storytelling! Create star maps and learn to navigate the skies. Act out stories of constellations you'll see in the park\, including: a starry-eyed story\, a star-crossed story\, and the story of our stars! Name your own constellations and discover how we are all stars!
X-ALT-DESC;FMTTYPE=text/html:<span style="color:#000000\;"><span style="font-size:14px\;"><span style="font-family: Roboto\, sans-serif\;">Learn about stars through storytelling! Create star maps and learn to navigate the skies. Act out stories of constellations you&rsquo\;ll see in the park\, including: a starry-eyed story\, a star-crossed story\, and the story of our stars! Name your own constellations and discover how we are all stars!</span></span></span>
LOCATION:2800 S Bentsen Palm Dr\, Mission\, TX 78572
UID:e.3477.394
SEQUENCE:3
DTSTAMP:20260421T164214Z
URL:https://members.missionchamber.com/events/details/star-stories-394
END:VEVENT

END:VCALENDAR
