BEGIN:VCALENDAR
VERSION:2.0
PRODID:-//ChamberMaster//Event Calendar 2.0//EN
METHOD:PUBLISH
X-PUBLISHED-TTL:P3D
REFRESH-INTERVAL:P3D
CALSCALE:GREGORIAN
BEGIN:VEVENT
DTSTART:20220525T150000Z
DTEND:20220525T160000Z
X-MICROSOFT-CDO-ALLDAYEVENT:FALSE
SUMMARY:Small Business Emergency Preparedness Online event
DESCRIPTION:Would your business survive if...\n\n-The road to your business closes as a result of construction or bad weather?\n\n-A key supplier/customer goes out of business?\n\n-A key employee gets sick for an extended period of time?\n\nWhy prepare?\n\nFrom workplace disruptions to natural and man-made disasters\, as a small business owner\, you should be ready for anything! Unexpected events can quickly interrupt your business putting you and your employees at risk. If you are not prepared\, your business could shut down forever.\n\nJoin us as Deirdre Pattillo\, SPHR\, SHRM-SCP\, Project Manager for Employer Services at the UTSA SBDC Center for Government Contracting\, covers information and valuable resources to help you plan and protect your business for emergency situations.\n\nHosted by the UTRGV SBDC with promotional support from the Greater Mission Chamber of Commerce\, Greater Pharr Chamber of Commerce\, Rio Grande City Economic Development Corporation\, Rio Grande City Public Library\, South Padre Island Chamber of Commerce\, and Weslaco Area Chamber of Commerce & Visitors Center.
X-ALT-DESC;FMTTYPE=text/html:<div class="cxmmr5t8 oygrvhab hcukyx3x c1et5uql o9v6fnle" style="overflow-wrap: break-word\; margin: 0.5em 0px 0px\; font-family: &quot\;Segoe UI Historic&quot\;\, &quot\;Segoe UI&quot\;\, Helvetica\, Arial\, sans-serif\; color: rgb(5\, 5\, 5)\; font-size: 15px\; background-color: rgb(255\, 255\, 255)\;">Would your business survive if...</div>\n\n<div class="cxmmr5t8 oygrvhab hcukyx3x c1et5uql o9v6fnle" style="overflow-wrap: break-word\; margin: 0.5em 0px 0px\; font-family: &quot\;Segoe UI Historic&quot\;\, &quot\;Segoe UI&quot\;\, Helvetica\, Arial\, sans-serif\; color: rgb(5\, 5\, 5)\; font-size: 15px\; background-color: rgb(255\, 255\, 255)\;">-The road to your business closes as a result of construction or bad weather?</div>\n\n<div class="cxmmr5t8 oygrvhab hcukyx3x c1et5uql o9v6fnle" style="overflow-wrap: break-word\; margin: 0.5em 0px 0px\; font-family: &quot\;Segoe UI Historic&quot\;\, &quot\;Segoe UI&quot\;\, Helvetica\, Arial\, sans-serif\; color: rgb(5\, 5\, 5)\; font-size: 15px\; background-color: rgb(255\, 255\, 255)\;">-A key supplier/customer goes out of business?</div>\n\n<div class="cxmmr5t8 oygrvhab hcukyx3x c1et5uql o9v6fnle" style="overflow-wrap: break-word\; margin: 0.5em 0px 0px\; font-family: &quot\;Segoe UI Historic&quot\;\, &quot\;Segoe UI&quot\;\, Helvetica\, Arial\, sans-serif\; color: rgb(5\, 5\, 5)\; font-size: 15px\; background-color: rgb(255\, 255\, 255)\;">-A key employee gets sick for an extended period of time?<br />\nWhy prepare?</div>\n\n<div class="cxmmr5t8 oygrvhab hcukyx3x c1et5uql o9v6fnle" style="overflow-wrap: break-word\; margin: 0.5em 0px 0px\; font-family: &quot\;Segoe UI Historic&quot\;\, &quot\;Segoe UI&quot\;\, Helvetica\, Arial\, sans-serif\; color: rgb(5\, 5\, 5)\; font-size: 15px\; background-color: rgb(255\, 255\, 255)\;">From workplace disruptions to natural and man-made disasters\, as a small business owner\, you should be ready for anything! Unexpected events can quickly interrupt your business putting you and your employees at risk. If you are not prepared\, your business could shut down forever.</div>\n\n<div class="cxmmr5t8 oygrvhab hcukyx3x c1et5uql o9v6fnle" style="overflow-wrap: break-word\; margin: 0.5em 0px 0px\; font-family: &quot\;Segoe UI Historic&quot\;\, &quot\;Segoe UI&quot\;\, Helvetica\, Arial\, sans-serif\; color: rgb(5\, 5\, 5)\; font-size: 15px\; background-color: rgb(255\, 255\, 255)\;">Join us as Deirdre Pattillo\, SPHR\, SHRM-SCP\, Project Manager for Employer Services at the UTSA SBDC Center for Government Contracting\, covers information and valuable resources to help you plan and protect your business for emergency situations.</div>\n\n<div class="cxmmr5t8 oygrvhab hcukyx3x c1et5uql o9v6fnle" style="overflow-wrap: break-word\; margin: 0.5em 0px 0px\; font-family: &quot\;Segoe UI Historic&quot\;\, &quot\;Segoe UI&quot\;\, Helvetica\, Arial\, sans-serif\; color: rgb(5\, 5\, 5)\; font-size: 15px\; background-color: rgb(255\, 255\, 255)\;">Hosted by the UTRGV SBDC with promotional support from the Greater Mission Chamber of Commerce\, Greater Pharr Chamber of Commerce\, Rio Grande City Economic Development Corporation\, Rio Grande City Public Library\, South Padre Island Chamber of Commerce\, and Weslaco Area Chamber of Commerce &amp\; Visitors Center.</div>\n
LOCATION:
UID:e.3477.531
SEQUENCE:3
DTSTAMP:20260422T042148Z
URL:https://members.missionchamber.com/events/details/small-business-emergency-preparedness-online-event-531
END:VEVENT

END:VCALENDAR
