BEGIN:VCALENDAR
VERSION:2.0
PRODID:-//ChamberMaster//Event Calendar 2.0//EN
METHOD:PUBLISH
X-PUBLISHED-TTL:P3D
REFRESH-INTERVAL:P3D
CALSCALE:GREGORIAN
BEGIN:VEVENT
DTSTART:20201110T160000Z
DTEND:20201110T180000Z
X-MICROSOFT-CDO-ALLDAYEVENT:FALSE
SUMMARY:SBDC: The HR Process
DESCRIPTION:The HR Process" webinar covers the appropriate steps to take when planning for human resources in a small business\, including what each step entails and its importance.\n\nBrought to you with promotional support by the Edinburg Chamber of Commerce\, Greater Mission Chamber of Commerce\, and RGV Hispanic Chamber of Commerce.\n\n*No fee to participate. Register by the deadline at 'find tickets' link.
X-ALT-DESC;FMTTYPE=text/html:<div class="kvgmc6g5 cxmmr5t8 oygrvhab hcukyx3x c1et5uql" style="overflow-wrap: break-word\; margin: 0px\; font-family: &quot\;Segoe UI Historic&quot\;\, &quot\;Segoe UI&quot\;\, Helvetica\, Arial\, sans-serif\; color: rgb(5\, 5\, 5)\; font-size: 15px\; background-color: rgb(255\, 255\, 255)\;">The HR Process&rdquo\; webinar covers the appropriate steps to take when planning for human resources in a small business\, including what each step entails and its importance.</div>\n\n<div class="o9v6fnle cxmmr5t8 oygrvhab hcukyx3x c1et5uql" style="overflow-wrap: break-word\; margin: 0.5em 0px 0px\; font-family: &quot\;Segoe UI Historic&quot\;\, &quot\;Segoe UI&quot\;\, Helvetica\, Arial\, sans-serif\; color: rgb(5\, 5\, 5)\; font-size: 15px\; background-color: rgb(255\, 255\, 255)\;">Brought to you with promotional support by the Edinburg Chamber of Commerce\, Greater Mission Chamber of Commerce\, and RGV Hispanic Chamber of Commerce.</div>\n\n<div class="o9v6fnle cxmmr5t8 oygrvhab hcukyx3x c1et5uql" style="overflow-wrap: break-word\; margin: 0.5em 0px 0px\; font-family: &quot\;Segoe UI Historic&quot\;\, &quot\;Segoe UI&quot\;\, Helvetica\, Arial\, sans-serif\; color: rgb(5\, 5\, 5)\; font-size: 15px\; background-color: rgb(255\, 255\, 255)\;">*No fee to participate. Register by the deadline at &#39\;find&nbsp\;tickets&#39\; link.</div>\n
LOCATION:
UID:e.3477.228
SEQUENCE:3
DTSTAMP:20260424T160252Z
URL:https://members.missionchamber.com/events/details/sbdc-the-hr-process-228
END:VEVENT

END:VCALENDAR
