BEGIN:VCALENDAR
VERSION:2.0
PRODID:-//ChamberMaster//Event Calendar 2.0//EN
METHOD:PUBLISH
X-PUBLISHED-TTL:P3D
REFRESH-INTERVAL:P3D
CALSCALE:GREGORIAN
BEGIN:VEVENT
DTSTART:20200220T160000Z
DTEND:20200220T180000Z
X-MICROSOFT-CDO-ALLDAYEVENT:FALSE
SUMMARY:SBDC: The Basic of Branding Seminar
DESCRIPTION:
X-ALT-DESC;FMTTYPE=text/html:
LOCATION:Mission Chamber of Commerce 202 W Tom Landry Mission TX\, 78572
UID:e.3477.60
SEQUENCE:3
DTSTAMP:20260424T120526Z
URL:https://members.missionchamber.com/events/details/sbdc-the-basic-of-branding-seminar-60
END:VEVENT

END:VCALENDAR
