BEGIN:VCALENDAR
VERSION:2.0
PRODID:-//ChamberMaster//Event Calendar 2.0//EN
METHOD:PUBLISH
X-PUBLISHED-TTL:P3D
REFRESH-INTERVAL:P3D
CALSCALE:GREGORIAN
BEGIN:VEVENT
DTSTART:20220125T160000Z
DTEND:20220125T180000Z
X-MICROSOFT-CDO-ALLDAYEVENT:FALSE
SUMMARY:SBDC: Business Branding Strategies
DESCRIPTION:REGISTRATION LINK:\n\nhttps://utsa.ecenterdirect.com/events/33577\n\nWEBINAR DESCRIPTION:\n\nDo you have a brand strategy for your existing business?\n\nA brand strategy is a long-term plan on what you want your business to "say" about your products and services to new and existing customers!\n\nThis message\, also known as branding\, helps you engage and communicate with your customers more clearly. The more consistent and aligned your brand message is\, the more likely you are to attract and maintain loyal customers!\n\nThis webinar shares practical branding strategies for increased sales and discusses the impact a brand has on the value of a business.\n\nTopics discussed:\n\n-Protecting your brand\n\n-Brand messaging\n\n-Brand alignment\n\nThis webinar session is presented by Jaenie Longoria\, Global Business Consultant with Biz Media Firm.\n\nThis webinar is hosted by the UTRGV SBDC with promotional support by the Greater Mission Chamber of Commerce\, RGV Hispanic Chamber of Commerce\, San Benito Chamber of Commerce\, and Starr County Industrial Foundation.\n\nClick on link above to register. Deadline applies.
X-ALT-DESC;FMTTYPE=text/html:<div class="kvgmc6g5 cxmmr5t8 oygrvhab hcukyx3x c1et5uql" style="overflow-wrap: break-word\; margin: 0px\; font-family: &quot\;Segoe UI Historic&quot\;\, &quot\;Segoe UI&quot\;\, Helvetica\, Arial\, sans-serif\; color: rgb(5\, 5\, 5)\; font-size: 14px\;">REGISTRATION LINK:<br />\n<a class="oajrlxb2 g5ia77u1 qu0x051f esr5mh6w e9989ue4 r7d6kgcz rq0escxv nhd2j8a9 nc684nl6 p7hjln8o kvgmc6g5 cxmmr5t8 oygrvhab hcukyx3x jb3vyjys rz4wbd8a qt6c0cv9 a8nywdso i1ao9s8h esuyzwwr f1sip0of lzcic4wl gpro0wi8 py34i1dx" href="https://utsa.ecenterdirect.com/events/33577?fbclid=IwAR1lMsFXqaGoaTbPy_H0AWgZL1f_QZ1IejbCrP7ru0UTZP9JwplxG4Z9gxQ" rel="nofollow" role="link" style="color: var(--blue-link)\; cursor: pointer\; text-decoration-line: none\; outline: none\; list-style: none\; border-width: 0px\; border-style: initial\; border-color: initial\; padding: 0px\; margin: 0px\; touch-action: manipulation\; background-color: transparent\; text-align: inherit\; display: inline\; -webkit-tap-highlight-color: transparent\; box-sizing: border-box\; font-family: inherit\;" tabindex="0" target="_blank">https://utsa.ecenterdirect.com/events/33577</a></div>\n\n<div class="cxmmr5t8 oygrvhab hcukyx3x c1et5uql o9v6fnle" style="overflow-wrap: break-word\; margin: 0.5em 0px 0px\; font-family: &quot\;Segoe UI Historic&quot\;\, &quot\;Segoe UI&quot\;\, Helvetica\, Arial\, sans-serif\; color: rgb(5\, 5\, 5)\; font-size: 14px\;">WEBINAR DESCRIPTION:<br />\nDo you have a brand strategy for your existing business?</div>\n\n<div class="cxmmr5t8 oygrvhab hcukyx3x c1et5uql o9v6fnle" style="overflow-wrap: break-word\; margin: 0.5em 0px 0px\; font-family: &quot\;Segoe UI Historic&quot\;\, &quot\;Segoe UI&quot\;\, Helvetica\, Arial\, sans-serif\; color: rgb(5\, 5\, 5)\; font-size: 14px\;">A brand strategy is a long-term plan on what you want your business to &quot\;say&quot\; about your products and services to new and existing customers!</div>\n\n<div class="cxmmr5t8 oygrvhab hcukyx3x c1et5uql o9v6fnle" style="overflow-wrap: break-word\; margin: 0.5em 0px 0px\; font-family: &quot\;Segoe UI Historic&quot\;\, &quot\;Segoe UI&quot\;\, Helvetica\, Arial\, sans-serif\; color: rgb(5\, 5\, 5)\; font-size: 14px\;">This message\, also known as branding\, helps you engage and communicate with your customers more clearly. The more consistent and aligned your brand message is\, the more likely you are to attract and maintain loyal customers!</div>\n\n<div class="cxmmr5t8 oygrvhab hcukyx3x c1et5uql o9v6fnle" style="overflow-wrap: break-word\; margin: 0.5em 0px 0px\; font-family: &quot\;Segoe UI Historic&quot\;\, &quot\;Segoe UI&quot\;\, Helvetica\, Arial\, sans-serif\; color: rgb(5\, 5\, 5)\; font-size: 14px\;">This webinar shares practical branding strategies for increased sales and discusses the impact a brand has on the value of a business.</div>\n\n<div class="cxmmr5t8 oygrvhab hcukyx3x c1et5uql o9v6fnle" style="overflow-wrap: break-word\; margin: 0.5em 0px 0px\; font-family: &quot\;Segoe UI Historic&quot\;\, &quot\;Segoe UI&quot\;\, Helvetica\, Arial\, sans-serif\; color: rgb(5\, 5\, 5)\; font-size: 14px\;">Topics discussed:</div>\n\n<div class="cxmmr5t8 oygrvhab hcukyx3x c1et5uql o9v6fnle" style="overflow-wrap: break-word\; margin: 0.5em 0px 0px\; font-family: &quot\;Segoe UI Historic&quot\;\, &quot\;Segoe UI&quot\;\, Helvetica\, Arial\, sans-serif\; color: rgb(5\, 5\, 5)\; font-size: 14px\;">-Protecting your brand<br />\n-Brand messaging<br />\n-Brand alignment</div>\n\n<div class="cxmmr5t8 oygrvhab hcukyx3x c1et5uql o9v6fnle" style="overflow-wrap: break-word\; margin: 0.5em 0px 0px\; font-family: &quot\;Segoe UI Historic&quot\;\, &quot\;Segoe UI&quot\;\, Helvetica\, Arial\, sans-serif\; color: rgb(5\, 5\, 5)\; font-size: 14px\;">This webinar session is presented by Jaenie Longoria\, Global Business Consultant with Biz Media Firm.</div>\n\n<div class="cxmmr5t8 oygrvhab hcukyx3x c1et5uql o9v6fnle" style="overflow-wrap: break-word\; margin: 0.5em 0px 0px\; font-family: &quot\;Segoe UI Historic&quot\;\, &quot\;Segoe UI&quot\;\, Helvetica\, Arial\, sans-serif\; color: rgb(5\, 5\, 5)\; font-size: 14px\;">This webinar is hosted by the UTRGV SBDC with promotional support by the Greater Mission Chamber of Commerce\, RGV Hispanic Chamber of Commerce\, San Benito Chamber of Commerce\, and Starr County Industrial Foundation.</div>\n\n<div class="cxmmr5t8 oygrvhab hcukyx3x c1et5uql o9v6fnle" style="overflow-wrap: break-word\; margin: 0.5em 0px 0px\; font-family: &quot\;Segoe UI Historic&quot\;\, &quot\;Segoe UI&quot\;\, Helvetica\, Arial\, sans-serif\; color: rgb(5\, 5\, 5)\; font-size: 14px\;">Click on link above to register. Deadline applies.</div>\n
LOCATION:
UID:e.3477.509
SEQUENCE:3
DTSTAMP:20260423T075518Z
URL:https://members.missionchamber.com/events/details/sbdc-business-branding-strategies-509
END:VEVENT

END:VCALENDAR
