BEGIN:VCALENDAR
VERSION:2.0
PRODID:-//ChamberMaster//Event Calendar 2.0//EN
METHOD:PUBLISH
X-PUBLISHED-TTL:P3D
REFRESH-INTERVAL:P3D
CALSCALE:GREGORIAN
BEGIN:VEVENT
DTSTART:20201214T173000Z
DTEND:20201214T190000Z
X-MICROSOFT-CDO-ALLDAYEVENT:FALSE
SUMMARY:Ribbon Cutting: McAllen Emergency Room
DESCRIPTION:Join GMCC as we celebrate McAllen Emergency Room Ribbon Cutting located at 6700 N. 10th Street McAllen\, TX 78504 from 11:30 AM to 1:00 PM. We will be taking all cautionary measures to celebrate safely while practicing social distancing and enforcing face masks to keep our community safe.
X-ALT-DESC;FMTTYPE=text/html:<span background-color:="" font-size:="" segoe="" ui="">Join GMCC as we celebrate McAllen Emergency Room Ribbon Cutting located at 6700 N. 10th Street McAllen\, TX 78504 from 11:30 AM to 1:00 PM. We will be taking all cautionary measures to celebrate safely while practicing social distancing and enforcing face masks to keep our community safe.</span>
LOCATION:6700 N. 10th Street McAllen\, TX 78504
UID:e.3477.236
SEQUENCE:3
DTSTAMP:20260424T145110Z
URL:https://members.missionchamber.com/events/details/ribbon-cutting-mcallen-emergency-room-236
END:VEVENT

END:VCALENDAR
