BEGIN:VCALENDAR
VERSION:2.0
PRODID:-//ChamberMaster//Event Calendar 2.0//EN
METHOD:PUBLISH
X-PUBLISHED-TTL:P3D
REFRESH-INTERVAL:P3D
CALSCALE:GREGORIAN
BEGIN:VEVENT
DTSTART:20210914T220000Z
DTEND:20210914T230000Z
X-MICROSOFT-CDO-ALLDAYEVENT:FALSE
SUMMARY:Ribbon Cutting: Keto Sweets & Treats
DESCRIPTION:
X-ALT-DESC;FMTTYPE=text/html:
LOCATION:200 N. Bryan Rd. Suite 122 Mission\, TX 78572
UID:e.3477.436
SEQUENCE:3
DTSTAMP:20260421T124009Z
URL:https://members.missionchamber.com/events/details/ribbon-cutting-keto-sweets-treats-436
END:VEVENT

END:VCALENDAR
