BEGIN:VCALENDAR
VERSION:2.0
PRODID:-//ChamberMaster//Event Calendar 2.0//EN
METHOD:PUBLISH
X-PUBLISHED-TTL:P3D
REFRESH-INTERVAL:P3D
CALSCALE:GREGORIAN
BEGIN:VEVENT
DTSTART:20200311T210000Z
DTEND:20200312T000000Z
X-MICROSOFT-CDO-ALLDAYEVENT:FALSE
SUMMARY:Neighborhood Farmers Market at The Bryan House
DESCRIPTION:Everyone?s trying get back on track with their health after the holiday! Stop by and see the beautiful items we have to offer. Everything from organically veggies\, herbs\, Kambucha\, vinegars\, granola\, mushrooms\, arts & crafts!
X-ALT-DESC;FMTTYPE=text/html:<span style="color: rgb(29\, 33\, 41)\; font-family: system-ui\, -apple-system\, system-ui\, &quot\;.SFNSText-Regular&quot\;\, sans-serif\; font-size: 14px\; white-space: pre-wrap\;">Everyone?s trying get back on track with their health after the holiday! Stop by and see the beautiful items we have to offer. Everything from organically veggies\, herbs\, Kambucha\, vinegars\, granola\, mushrooms\, arts &amp\; crafts!</span>
LOCATION:1113 E. Mile 2 Mission TX 78574
UID:e.3477.43
SEQUENCE:3
DTSTAMP:20260424T133547Z
URL:https://members.missionchamber.com/events/details/neighborhood-farmers-market-at-the-bryan-house-03-11-2020-43
END:VEVENT

END:VCALENDAR
