BEGIN:VCALENDAR
VERSION:2.0
PRODID:-//ChamberMaster//Event Calendar 2.0//EN
METHOD:PUBLISH
X-PUBLISHED-TTL:P3D
REFRESH-INTERVAL:P3D
CALSCALE:GREGORIAN
BEGIN:VEVENT
DTSTART:20211113T170000Z
DTEND:20211113T200000Z
X-MICROSOFT-CDO-ALLDAYEVENT:FALSE
SUMMARY:Mission Lions Market Days
DESCRIPTION:Join your friends and neighbors the second Saturday of each month beginning on May 8\, 2021 from 11 AM - 2 PM. Enjoy arts and crafts\, antiques\, jewelry\, clothing\, food\, music\, and even free community bingo. Spend the day supporting your community.
X-ALT-DESC;FMTTYPE=text/html:Join your friends and neighbors the <strong>second Saturday of each month</strong> beginning on May 8\, 2021 from 11 AM - 2 PM. Enjoy arts and crafts\, antiques\, jewelry\, clothing\, food\, music\, and even free community bingo. Spend the day supporting your community.&nbsp\;
LOCATION:Mission Market Square 200 W Tom Landry\, Mission TX
UID:e.3477.259
SEQUENCE:3
DTSTAMP:20260423T075615Z
URL:https://members.missionchamber.com/events/details/mission-lions-market-days-11-13-2021-259
END:VEVENT

END:VCALENDAR
