BEGIN:VCALENDAR
VERSION:2.0
PRODID:-//ChamberMaster//Event Calendar 2.0//EN
METHOD:PUBLISH
X-PUBLISHED-TTL:P3D
REFRESH-INTERVAL:P3D
CALSCALE:GREGORIAN
BEGIN:VEVENT
DTSTART:20201209T160000Z
DTEND:20201209T180000Z
X-MICROSOFT-CDO-ALLDAYEVENT:FALSE
SUMMARY:Maximize Sales: Strategies and Tips
DESCRIPTION:WEBINAR DESCRIPTION:\n\nAre you looking for ways to increase sales?\n\nEvery business can benefit greatly from a strategic plan and the implementation of a strong sales approach. Identify what drives your sales and maximizes customer growth!\n\nThis workshop shares best practices\, along with tips and tools to achieve your goals efficiently and effectively and for staying engaged with customers.\n\nLearn about the following:\n\n-Overview of 7Ps of Marketing\n\n-Sales Strategy\n\n-Goal Setting\n\n-Managing Client Accounts\n\n-Sales Tips\n\nThis webinar is presented by Javier Martinez III with AUCTUS Business Advisory.\n\nThis webinar is hosted by the UTRGV SBDC with promotional support by the Edinburg Chamber of Commerce\, Greater Mission Chamber of Commerce\, Greater Pharr Chamber of Commerce\, Rio Grande City Economic Development Corporation\, Rio Grande City Public Library\, South Padre Island Chamber of Commerce\, and Weslaco Area Chamber of Commerce & Visitors Center.
X-ALT-DESC;FMTTYPE=text/html:<div animation-name:="" background-color:="" class="o9v6fnle cxmmr5t8 oygrvhab hcukyx3x c1et5uql" color:="" font-size:="" none="" segoe="" style="overflow-wrap: break-word\; margin: 0.5em 0px 0px\; font-family: " transition-property:="" ui=""><span style="color:#000000\;">WEBINAR DESCRIPTION:<br style="animation-name: none !important\; transition-property: none !important\;" />\nAre you looking for ways to increase sales?</span></div>\n\n<div animation-name:="" background-color:="" class="o9v6fnle cxmmr5t8 oygrvhab hcukyx3x c1et5uql" color:="" font-size:="" none="" segoe="" style="overflow-wrap: break-word\; margin: 0.5em 0px 0px\; font-family: " transition-property:="" ui=""><span style="color:#000000\;">Every business can benefit greatly from a strategic plan and the implementation of a strong sales approach. Identify what drives your sales and maximizes customer growth!</span></div>\n\n<div animation-name:="" background-color:="" class="o9v6fnle cxmmr5t8 oygrvhab hcukyx3x c1et5uql" color:="" font-size:="" none="" segoe="" style="overflow-wrap: break-word\; margin: 0.5em 0px 0px\; font-family: " transition-property:="" ui=""><span style="color:#000000\;">This workshop shares best practices\, along with tips and tools to achieve your goals efficiently and effectively and for staying engaged with customers.</span></div>\n\n<div animation-name:="" background-color:="" class="o9v6fnle cxmmr5t8 oygrvhab hcukyx3x c1et5uql" color:="" font-size:="" none="" segoe="" style="overflow-wrap: break-word\; margin: 0.5em 0px 0px\; font-family: " transition-property:="" ui=""><span style="color:#000000\;">Learn about the following:</span></div>\n\n<div animation-name:="" background-color:="" class="o9v6fnle cxmmr5t8 oygrvhab hcukyx3x c1et5uql" color:="" font-size:="" none="" segoe="" style="overflow-wrap: break-word\; margin: 0.5em 0px 0px\; font-family: " transition-property:="" ui=""><span style="color:#000000\;">-Overview of 7Ps of Marketing<br style="animation-name: none !important\; transition-property: none !important\;" />\n-Sales Strategy<br style="animation-name: none !important\; transition-property: none !important\;" />\n-Goal Setting<br style="animation-name: none !important\; transition-property: none !important\;" />\n-Managing Client Accounts<br style="animation-name: none !important\; transition-property: none !important\;" />\n-Sales Tips</span></div>\n\n<div animation-name:="" background-color:="" class="o9v6fnle cxmmr5t8 oygrvhab hcukyx3x c1et5uql" color:="" font-size:="" none="" segoe="" style="overflow-wrap: break-word\; margin: 0.5em 0px 0px\; font-family: " transition-property:="" ui=""><span style="color:#000000\;">This webinar is presented by Javier Martinez III with AUCTUS Business Advisory.</span></div>\n\n<div animation-name:="" background-color:="" class="o9v6fnle cxmmr5t8 oygrvhab hcukyx3x c1et5uql" color:="" font-size:="" none="" segoe="" style="overflow-wrap: break-word\; margin: 0.5em 0px 0px\; font-family: " transition-property:="" ui=""><span style="color:#000000\;">This webinar is hosted by the UTRGV SBDC with promotional support by the Edinburg Chamber of Commerce\, Greater Mission Chamber of Commerce\, Greater Pharr Chamber of Commerce\, Rio Grande City Economic Development Corporation\, Rio Grande City Public Library\, South Padre Island Chamber of Commerce\, and Weslaco Area Chamber of Commerce &amp\; Visitors Center.</span></div>\n
LOCATION:Virtual Event via Zoom
UID:e.3477.232
SEQUENCE:3
DTSTAMP:20260424T144758Z
URL:https://members.missionchamber.com/events/details/maximize-sales-strategies-and-tips-232
END:VEVENT

END:VCALENDAR
