BEGIN:VCALENDAR
VERSION:2.0
PRODID:-//ChamberMaster//Event Calendar 2.0//EN
METHOD:PUBLISH
X-PUBLISHED-TTL:P3D
REFRESH-INTERVAL:P3D
CALSCALE:GREGORIAN
BEGIN:VEVENT
DTSTART:20220816T150000Z
DTEND:20220816T170000Z
X-MICROSOFT-CDO-ALLDAYEVENT:FALSE
SUMMARY:Maximizar las Ventas:Estrategias y Consejos- USBDC Webinar
DESCRIPTION:USBDC Webinar ZOOM \n\nUTRGV.EDU/SBDC
X-ALT-DESC;FMTTYPE=text/html:USBDC Webinar ZOOM&nbsp\;<br />\nUTRGV.EDU/SBDC
LOCATION:Zoom
UID:e.3477.552
SEQUENCE:3
DTSTAMP:20260422T040414Z
URL:https://members.missionchamber.com/events/details/maximizar-las-ventas-estrategias-y-consejos-usbdc-webinar-552
END:VEVENT

END:VCALENDAR
