BEGIN:VCALENDAR
VERSION:2.0
PRODID:-//ChamberMaster//Event Calendar 2.0//EN
METHOD:PUBLISH
X-PUBLISHED-TTL:P3D
REFRESH-INTERVAL:P3D
CALSCALE:GREGORIAN
BEGIN:VEVENT
DTSTART:20201209T210000Z
DTEND:20201209T223000Z
X-MICROSOFT-CDO-ALLDAYEVENT:FALSE
SUMMARY:Liderazgo Desde el Enfoque de Competencias
DESCRIPTION:El valor de un l der no est  determinado por su propio  xito\, sino por el  xito de todo su equipo. Este seminario web cubre  reas de competencia en las que los due os de negocios exitosos deben enfocarse para demostrar verdaderas habilidades de liderazgo en todo momento. *Recomendado para empresas existentes.\n\nTemas a cubrir:\n\n- El significado de las competencias de liderazgo\n\n-Liderazgo en el contexto actual\n\n-Habilidades de liderazgo vs habilidades de gesti n\n\n-Competencias para un liderazgo eficaz\n\n-Pasos importantes para un liderazgo eficaz\, incluyendo un autodiagn stico y un plan de acci n\n\nEste seminario web es presentado por la Profesora Ofelia Brown\, PhD\, de Brown Business Consulting Group\, LLC.\n\nEste seminario web es organizado por el Centro de Desarrollo para la Peque a Empresa (SBDC) de UTRGV con apoyo promocional de la Camara de Comercio de Edinburg\, Camara de Comercio de Mission\, Consulado de Mexico en McAllen\, y la Camara de Comercio y Centro de Visitantes de Weslaco.
X-ALT-DESC;FMTTYPE=text/html:<div animation-name:="" background-color:="" class="o9v6fnle cxmmr5t8 oygrvhab hcukyx3x c1et5uql" color:="" font-size:="" none="" segoe="" style="overflow-wrap: break-word\; margin: 0.5em 0px 0px\; font-family: " transition-property:="" ui="">El valor de un l&iacute\;der no est&aacute\; determinado por su propio &eacute\;xito\, sino por el &eacute\;xito de todo su equipo. Este seminario web cubre &aacute\;reas de competencia en las que los due&ntilde\;os de negocios exitosos deben enfocarse para demostrar verdaderas habilidades de liderazgo en todo momento. *Recomendado para empresas existentes.</div>\n\n<div animation-name:="" background-color:="" class="o9v6fnle cxmmr5t8 oygrvhab hcukyx3x c1et5uql" color:="" font-size:="" none="" segoe="" style="overflow-wrap: break-word\; margin: 0.5em 0px 0px\; font-family: " transition-property:="" ui="">Temas a cubrir:</div>\n\n<div animation-name:="" background-color:="" class="o9v6fnle cxmmr5t8 oygrvhab hcukyx3x c1et5uql" color:="" font-size:="" none="" segoe="" style="overflow-wrap: break-word\; margin: 0.5em 0px 0px\; font-family: " transition-property:="" ui="">- El significado de las competencias de liderazgo</div>\n\n<div animation-name:="" background-color:="" class="o9v6fnle cxmmr5t8 oygrvhab hcukyx3x c1et5uql" color:="" font-size:="" none="" segoe="" style="overflow-wrap: break-word\; margin: 0.5em 0px 0px\; font-family: " transition-property:="" ui="">-Liderazgo en el contexto actual</div>\n\n<div animation-name:="" background-color:="" class="o9v6fnle cxmmr5t8 oygrvhab hcukyx3x c1et5uql" color:="" font-size:="" none="" segoe="" style="overflow-wrap: break-word\; margin: 0.5em 0px 0px\; font-family: " transition-property:="" ui="">-Habilidades de liderazgo vs habilidades de gesti&oacute\;n</div>\n\n<div animation-name:="" background-color:="" class="o9v6fnle cxmmr5t8 oygrvhab hcukyx3x c1et5uql" color:="" font-size:="" none="" segoe="" style="overflow-wrap: break-word\; margin: 0.5em 0px 0px\; font-family: " transition-property:="" ui="">-Competencias para un liderazgo eficaz</div>\n\n<div animation-name:="" background-color:="" class="o9v6fnle cxmmr5t8 oygrvhab hcukyx3x c1et5uql" color:="" font-size:="" none="" segoe="" style="overflow-wrap: break-word\; margin: 0.5em 0px 0px\; font-family: " transition-property:="" ui="">-Pasos importantes para un liderazgo eficaz\, incluyendo un autodiagn&oacute\;stico y un plan de acci&oacute\;n</div>\n\n<div animation-name:="" background-color:="" class="o9v6fnle cxmmr5t8 oygrvhab hcukyx3x c1et5uql" color:="" font-size:="" none="" segoe="" style="overflow-wrap: break-word\; margin: 0.5em 0px 0px\; font-family: " transition-property:="" ui="">Este seminario web es presentado por la Profesora Ofelia Brown\, PhD\, de Brown Business Consulting Group\, LLC.</div>\n\n<div animation-name:="" background-color:="" class="o9v6fnle cxmmr5t8 oygrvhab hcukyx3x c1et5uql" color:="" font-size:="" none="" segoe="" style="overflow-wrap: break-word\; margin: 0.5em 0px 0px\; font-family: " transition-property:="" ui="">Este seminario web es organizado por el Centro de Desarrollo para la Peque&ntilde\;a Empresa (SBDC) de UTRGV con apoyo promocional de la Camara de Comercio de Edinburg\, Camara de Comercio de Mission\, Consulado de Mexico en McAllen\, y la Camara de Comercio y Centro de Visitantes de Weslaco.</div>\n
LOCATION:Zoom
UID:e.3477.233
SEQUENCE:3
DTSTAMP:20260424T145302Z
URL:https://members.missionchamber.com/events/details/liderazgo-desde-el-enfoque-de-competencias-233
END:VEVENT

END:VCALENDAR
