BEGIN:VCALENDAR
VERSION:2.0
PRODID:-//ChamberMaster//Event Calendar 2.0//EN
METHOD:PUBLISH
X-PUBLISHED-TTL:P3D
REFRESH-INTERVAL:P3D
CALSCALE:GREGORIAN
BEGIN:VEVENT
DTSTART:20190711T163000Z
DTEND:20190711T180000Z
X-MICROSOFT-CDO-ALLDAYEVENT:FALSE
SUMMARY:July Buenas Tardes Luncheon
DESCRIPTION:Rebrand your purpose!\n\nJoin the Greater Mission Chamber of Commerce for a panel discussion of the economic development within the City of Mission businesses and historical elements including La Lomita.
X-ALT-DESC;FMTTYPE=text/html:Rebrand your purpose!<br />\nJoin the Greater Mission Chamber of Commerce for a panel discussion of the economic development within the City of Mission businesses and historical elements including La Lomita.&nbsp\;
LOCATION:Mission Event Center 200 N. Shary Rd\, Mission\, TX 78572
UID:e.3477.14
SEQUENCE:3
DTSTAMP:20260422T121913Z
URL:https://members.missionchamber.com/events/details/july-buenas-tardes-luncheon-14
END:VEVENT

END:VCALENDAR
