BEGIN:VCALENDAR
VERSION:2.0
PRODID:-//ChamberMaster//Event Calendar 2.0//EN
METHOD:PUBLISH
X-PUBLISHED-TTL:P3D
REFRESH-INTERVAL:P3D
CALSCALE:GREGORIAN
BEGIN:VEVENT
DTSTART:20210521T210000Z
DTEND:20210522T010000Z
X-MICROSOFT-CDO-ALLDAYEVENT:FALSE
SUMMARY:Interlinc Mortgage Ribbon Cutting
DESCRIPTION:Join us for the Interlinc Mortgage Ribbon Cutting Ceremony.\n\nRaffle Givaways\, Live Music\, Sponsors Welcomed!
X-ALT-DESC;FMTTYPE=text/html:<div class="kvgmc6g5 cxmmr5t8 oygrvhab hcukyx3x c1et5uql" style="overflow-wrap: break-word\; margin: 0px\; animation-name: none !important\; transition-property: none !important\; font-family: inherit\;"><span animation-name:="" background-color:="" class="d2edcug0 hpfvmrgz qv66sw1b c1et5uql lr9zc1uh a8c37x1j keod5gw0 nxhoafnm aigsh9s9 d3f4x2em fe6kdd0r mau55g9w c8b282yb iv3no6db jq4qci2q a3bd9o3v knj5qynh oo9gr5id" color:="" dir="auto" none="" segoe="" style="line-height: 1.3333\; display: block\; overflow-wrap: break-word\; max-width: 100%\; min-width: 0px\; font-size: 0.9375rem\; font-family: " transition-property:="" ui="" word-break:=""><span style="font-size:14px\;"><span style="font-family:arial\;">Join us for the Interlinc Mortgage Ribbon Cutting Ceremony.</span></span></span></div>\n\n<div><span style="font-size:14px\;"><span style="font-family:arial\;">Raffle Givaways\, Live Music\, Sponsors Welcomed!</span></span></div>\n
LOCATION:2575 E Griffin Pkwy Suite 6\, Mission\, TX
UID:e.3477.388
SEQUENCE:3
DTSTAMP:20260421T183231Z
URL:https://members.missionchamber.com/events/details/interlinc-mortgage-ribbon-cutting-388
END:VEVENT

END:VCALENDAR
