BEGIN:VCALENDAR
VERSION:2.0
PRODID:-//ChamberMaster//Event Calendar 2.0//EN
METHOD:PUBLISH
X-PUBLISHED-TTL:P3D
REFRESH-INTERVAL:P3D
CALSCALE:GREGORIAN
BEGIN:VEVENT
DTSTART:20210113T160000Z
DTEND:20210113T170000Z
X-MICROSOFT-CDO-ALLDAYEVENT:FALSE
SUMMARY:HR in the COVID Environment
DESCRIPTION:Join us as Deirdre Pattillo\, SPHR\, SHRM-SCP\, Project Manager for Employer Services at the UTSA SBDC Center for Government Contracting\, provides guidance and answers your questions on HR issues and COVID-19.\n\n*Your specific questions can be submitted prior to the round-table by sending them to sbdc@utrgv.edu\n\nTopics covered include:\n\n-Paycheck Protection Plan ? Worker retention/rehire\; Workforce issues\; PPP Flexibility Act and forgiveness\n\n-Families First Coronavirus Response Act (Paid Sick Leave) ? Regulatory responsibilities\, Required Posters and FAQs\n\n-TWC Employer Resources - Chargeback Protection\; Suitable work\; Documenting Work Refusal\n\n-Workplace Safety and Cybersecurity\n\n-Rehire/Reopening\n\n-Q&A\n\nThis workshop is hosted by the UTRGV SBDC with promotional support by area resource partners: Edinburg Chamber of Commerce\; Greater Pharr Chamber of Commerce\; Greater Mission Chamber of Commerce\; South Padre Island Chamber of Commerce.
X-ALT-DESC;FMTTYPE=text/html:<div animation-name:="" background-color:="" class="o9v6fnle cxmmr5t8 oygrvhab hcukyx3x c1et5uql" color:="" font-size:="" none="" segoe="" style="overflow-wrap: break-word\; margin: 0.5em 0px 0px\; font-family: " transition-property:="" ui="">Join us as Deirdre Pattillo\, SPHR\, SHRM-SCP\, Project Manager for Employer Services at the UTSA SBDC Center for Government Contracting\, provides guidance and answers your questions on HR issues and COVID-19.</div>\n\n<div animation-name:="" background-color:="" class="o9v6fnle cxmmr5t8 oygrvhab hcukyx3x c1et5uql" color:="" font-size:="" none="" segoe="" style="overflow-wrap: break-word\; margin: 0.5em 0px 0px\; font-family: " transition-property:="" ui="">*Your specific questions can be submitted prior to the round-table by sending them to sbdc@utrgv.edu</div>\n\n<div animation-name:="" background-color:="" class="o9v6fnle cxmmr5t8 oygrvhab hcukyx3x c1et5uql" color:="" font-size:="" none="" segoe="" style="overflow-wrap: break-word\; margin: 0.5em 0px 0px\; font-family: " transition-property:="" ui="">Topics covered include:<br style="animation-name: none !important\; transition-property: none !important\;" />\n-Paycheck Protection Plan ? Worker retention/rehire\; Workforce issues\; PPP Flexibility Act and forgiveness<br style="animation-name: none !important\; transition-property: none !important\;" />\n-Families First Coronavirus Response Act (Paid Sick Leave) ? Regulatory responsibilities\, Required Posters and FAQs<br style="animation-name: none !important\; transition-property: none !important\;" />\n-TWC Employer Resources - Chargeback Protection\; Suitable work\; Documenting Work Refusal<br style="animation-name: none !important\; transition-property: none !important\;" />\n-Workplace Safety and Cybersecurity<br style="animation-name: none !important\; transition-property: none !important\;" />\n-Rehire/Reopening<br style="animation-name: none !important\; transition-property: none !important\;" />\n-Q&amp\;A</div>\n\n<div animation-name:="" background-color:="" class="o9v6fnle cxmmr5t8 oygrvhab hcukyx3x c1et5uql" color:="" font-size:="" none="" segoe="" style="overflow-wrap: break-word\; margin: 0.5em 0px 0px\; font-family: " transition-property:="" ui="">This workshop is hosted by the UTRGV SBDC with promotional support by area resource partners: Edinburg Chamber of Commerce\; Greater Pharr Chamber of Commerce\; Greater Mission Chamber of Commerce\; South Padre Island Chamber of Commerce.</div>\n
LOCATION:Online Event
UID:e.3477.239
SEQUENCE:3
DTSTAMP:20260424T155710Z
URL:https://members.missionchamber.com/events/details/hr-in-the-covid-environment-239
END:VEVENT

END:VCALENDAR
