BEGIN:VCALENDAR
VERSION:2.0
PRODID:-//ChamberMaster//Event Calendar 2.0//EN
METHOD:PUBLISH
X-PUBLISHED-TTL:P3D
REFRESH-INTERVAL:P3D
CALSCALE:GREGORIAN
BEGIN:VEVENT
DTSTART:20201118T220000Z
DTEND:20201119T000000Z
X-MICROSOFT-CDO-ALLDAYEVENT:FALSE
SUMMARY:E-Commerce Roadmap: Getting Your Business Online
DESCRIPTION:Are you interested in launching an online business? Do you want to grow your existing business through online sales? This no-cost session will help you get started in electronic commerce!\n\nTopics covered include the following:\n\n-Overview of electronic commerce\n\n-Technical requirements to launching an e-commerce strategy or business\n\n-Review of e-commerce platforms & online marketplaces\n\n-Engagement in social selling\n\nHosted by the UTRGV SBDC with promotional support by the Greater Mission Chamber of Commerce and South Padre Island Chamber of Commerce.
X-ALT-DESC;FMTTYPE=text/html:<div class="kvgmc6g5 cxmmr5t8 oygrvhab hcukyx3x c1et5uql" style="overflow-wrap: break-word\; margin: 0px\; font-family: &quot\;Segoe UI Historic&quot\;\, &quot\;Segoe UI&quot\;\, Helvetica\, Arial\, sans-serif\; color: rgb(5\, 5\, 5)\; font-size: 15px\; background-color: rgb(255\, 255\, 255)\;">Are you interested in launching an online business? Do you want to grow your existing business through online sales? This no-cost session will help you get started in electronic commerce!</div>\n\n<div class="o9v6fnle cxmmr5t8 oygrvhab hcukyx3x c1et5uql" style="overflow-wrap: break-word\; margin: 0.5em 0px 0px\; font-family: &quot\;Segoe UI Historic&quot\;\, &quot\;Segoe UI&quot\;\, Helvetica\, Arial\, sans-serif\; color: rgb(5\, 5\, 5)\; font-size: 15px\; background-color: rgb(255\, 255\, 255)\;">Topics covered include the following:</div>\n\n<div class="o9v6fnle cxmmr5t8 oygrvhab hcukyx3x c1et5uql" style="overflow-wrap: break-word\; margin: 0.5em 0px 0px\; font-family: &quot\;Segoe UI Historic&quot\;\, &quot\;Segoe UI&quot\;\, Helvetica\, Arial\, sans-serif\; color: rgb(5\, 5\, 5)\; font-size: 15px\; background-color: rgb(255\, 255\, 255)\;">-Overview of electronic commerce<br />\n-Technical requirements to launching an e-commerce strategy or business<br />\n-Review of e-commerce platforms &amp\; online marketplaces<br />\n-Engagement in social selling</div>\n\n<div class="o9v6fnle cxmmr5t8 oygrvhab hcukyx3x c1et5uql" style="overflow-wrap: break-word\; margin: 0.5em 0px 0px\; font-family: &quot\;Segoe UI Historic&quot\;\, &quot\;Segoe UI&quot\;\, Helvetica\, Arial\, sans-serif\; color: rgb(5\, 5\, 5)\; font-size: 15px\; background-color: rgb(255\, 255\, 255)\;">Hosted by the UTRGV SBDC with promotional support by the Greater Mission Chamber of Commerce and South Padre Island Chamber of Commerce.</div>\n
LOCATION:
UID:e.3477.230
SEQUENCE:3
DTSTAMP:20260424T144859Z
URL:https://members.missionchamber.com/events/details/e-commerce-roadmap-getting-your-business-online-230
END:VEVENT

END:VCALENDAR
