BEGIN:VCALENDAR
VERSION:2.0
PRODID:-//ChamberMaster//Event Calendar 2.0//EN
METHOD:PUBLISH
X-PUBLISHED-TTL:P3D
REFRESH-INTERVAL:P3D
CALSCALE:GREGORIAN
BEGIN:VEVENT
DTSTART:20190313T150000Z
DTEND:20190313T163000Z
X-MICROSOFT-CDO-ALLDAYEVENT:FALSE
SUMMARY:Chamber 101: New & Potential Member Orientation
DESCRIPTION:Join us Wednesday\, March 13\, 2019\, for our Chamber 101: New & Potential Member Orientation. Find out what benefits\, events and resources the Greater Mission Chamber of Commerce has to offer!
X-ALT-DESC;FMTTYPE=text/html:Join us Wednesday\, March 13\, 2019\, for our Chamber 101: New &amp\; Potential Member Orientation. Find out what benefits\, events and resources the Greater Mission Chamber of Commerce has to offer!
LOCATION:
UID:e.3477.3
SEQUENCE:3
DTSTAMP:20260422T183722Z
URL:https://members.missionchamber.com/events/details/chamber-101-new-potential-member-orientation-3
END:VEVENT

END:VCALENDAR
