BEGIN:VCALENDAR
VERSION:2.0
PRODID:-//ChamberMaster//Event Calendar 2.0//EN
METHOD:PUBLISH
X-PUBLISHED-TTL:P3D
REFRESH-INTERVAL:P3D
CALSCALE:GREGORIAN
BEGIN:VEVENT
DTSTART:20210813T190000Z
DTEND:20210813T200000Z
X-MICROSOFT-CDO-ALLDAYEVENT:FALSE
SUMMARY:Bentsen RGV State Park - Water Quality Day
DESCRIPTION:What is in your water?\n\nClean water is critical for life.  Join us for a study of the properties of water through fun inquiry-based experiments.  Find out why not all water is exactly the same.\n\n\n	Bring:  Sunscreen\, hat\, water\, comfortable shoes\n	Meet: La Familia Nature Center\n	\n	Registration:  Attendance is limited.  Call 956-584-9156 or sign up at Park Headquarters to reserve your spot.
X-ALT-DESC;FMTTYPE=text/html:<p style="margin: 0px 0px 1em\; padding: 0px\; font-family: Roboto\, sans-serif\; font-size: 1.23077rem\; line-height: 1.6em\; color: rgb(0\, 0\, 0)\;"><span style="font-size:14px\;"><span style="font-family:arial\;">What is in your water?</span></span></p>\n\n<p style="margin: 0px 0px 1em\; padding: 0px\; font-family: Roboto\, sans-serif\; font-size: 1.23077rem\; line-height: 1.6em\; color: rgb(0\, 0\, 0)\;"><span style="font-size:14px\;"><span style="font-family:arial\;">Clean water is critical for life.&nbsp\; Join us for a study of the properties of water through fun inquiry-based experiments.&nbsp\; Find out why not all water is exactly the same.</span></span></p>\n\n<ul style="margin: 0.25em 0px 1.25em 2em\; padding-right: 0px\; padding-left: 0px\; list-style-position: initial\; list-style-image: initial\; font-family: Roboto\, sans-serif\; font-size: 1.23077rem\; line-height: 1.6em\; color: rgb(0\, 0\, 0)\;">\n	<li style="margin: 0px 0px 0.25em\; padding: 0px\; line-height: 1.5em\;"><span style="font-size:14px\;"><span style="font-family:arial\;"><strong style="margin: 0px\; padding: 0px\;">Bring:&nbsp\;</strong><span style="margin: 0px\; padding: 0px\;">&nbsp\;</span>Sunscreen\, hat\, water\, comfortable shoes</span></span></li>\n	<li style="margin: 0px 0px 0.25em\; padding: 0px\; line-height: 1.5em\;"><span style="font-size:14px\;"><span style="font-family:arial\;"><strong style="margin: 0px\; padding: 0px\;">Meet:</strong><span style="margin: 0px\; padding: 0px\;">&nbsp\;</span>La Familia Nature Center</span></span></li>\n	<li style="margin: 0px 0px 0.25em\; padding: 0px\; line-height: 1.5em\;">\n	<p style="margin: 0px 0px 1em\; padding: 0px\; font-size: 1.23077rem\; line-height: 1.6em\;"><span style="font-size:14px\;"><span style="font-family:arial\;"><strong style="margin: 0px\; padding: 0px\;">Registration:&nbsp\;</strong><span style="margin: 0px\; padding: 0px\;">&nbsp\;</span>Attendance is limited.&nbsp\; Call 956-584-9156 or sign up at Park Headquarters to reserve your spot.</span></span></p>\n	</li>\n</ul>\n
LOCATION:2800 S. Bentsen Palm Drive (FM 2062) Mission\, TX 78572
UID:e.3477.423
SEQUENCE:3
DTSTAMP:20260421T141242Z
URL:https://members.missionchamber.com/events/details/bentsen-rgv-state-park-water-quality-day-423
END:VEVENT

END:VCALENDAR
