BEGIN:VCALENDAR
VERSION:2.0
PRODID:-//ChamberMaster//Event Calendar 2.0//EN
METHOD:PUBLISH
X-PUBLISHED-TTL:P3D
REFRESH-INTERVAL:P3D
CALSCALE:GREGORIAN
BEGIN:VEVENT
DTSTART:20211027T134500Z
DTEND:20211027T144500Z
X-MICROSOFT-CDO-ALLDAYEVENT:FALSE
SUMMARY:Bentsen RGV State Park - Hawk Watch
DESCRIPTION:See hundreds of amazing raptors in flight as they migrate South.\n\n \n\n	Bring: Sunscreen\, hat\, water\, comfortable shoes\n	Meet: Take 9 AM tram to Hawk Tower\n\n\n\n\nView all of the Bentsen- Rio Grande Valley State Park programs for October here: BRGVSP October Program Flyer
X-ALT-DESC;FMTTYPE=text/html:<span style="font-size:18px\;"><span style="color:#000000\;"><span style="font-family:arial\;">See hundreds of amazing raptors in flight as they migrate South.</span></span></span><br />\n&nbsp\;\n<ul style="padding-right: 0px\; padding-left: 0px\; margin: 0.25em 0px 1.25em 2em\; list-style-position: initial\; list-style-image: initial\; font-family: Roboto\, sans-serif\; font-size: 1.23077rem\; line-height: 1.6em\; color: rgb(0\, 0\, 0)\;">\n	<li style="margin: 0px 0px 0.25em\; padding: 0px\; line-height: 1.5em\;"><span style="font-size:18px\;"><strong style="margin: 0px\; padding: 0px\;">Bring:&nbsp\;</strong><span style="margin: 0px\; padding: 0px\;">Sunscreen\, hat\, water\, comfortable shoes</span></span></li>\n	<li style="margin: 0px 0px 0.25em\; padding: 0px\; line-height: 1.5em\;"><span style="font-size:18px\;"><strong style="margin: 0px\; padding: 0px\;">Meet:</strong><span style="margin: 0px\; padding: 0px\;">&nbsp\;Take 9 AM tram to Hawk Tower</span></span></li>\n</ul>\n\n<div style="margin: 0px 0px 0.25em\; padding: 0px\; line-height: 1.5em\;"><br />\n<span style="font-size: 16px\;">View all of the&nbsp\;</span><span style="font-size: 16px\; font-family: arial\;">Bentsen- Rio Grande Valley State Park</span><strong style="font-size: 16px\;"><span style="font-family: arial\;">&nbsp\;</span></strong><span style="font-size: 16px\; font-family: arial\;">programs for October here:&nbsp\;</span><a href="https://chambermaster.blob.core.windows.net/userfiles/UserFiles/chambers/3477/File/Tourism_Events/BRGVSPOctoberProgramFlyer.pdf" style="font-size: 16px\;">BRGVSP October Program Flyer</a></div>\n
LOCATION:Bentsen- Rio Grande Valley State Park 2800 S. Bentsen Palm Drive (FM 2062) Mission\, TX 78572
UID:e.3477.477
SEQUENCE:3
DTSTAMP:20260421T124131Z
URL:https://members.missionchamber.com/events/details/bentsen-rgv-state-park-hawk-watch-10-27-2021-477
END:VEVENT

END:VCALENDAR
