BEGIN:VCALENDAR
VERSION:2.0
PRODID:-//ChamberMaster//Event Calendar 2.0//EN
METHOD:PUBLISH
X-PUBLISHED-TTL:P3D
REFRESH-INTERVAL:P3D
CALSCALE:GREGORIAN
BEGIN:VEVENT
DTSTART:20211024T133000Z
DTEND:20211024T143000Z
X-MICROSOFT-CDO-ALLDAYEVENT:FALSE
SUMMARY:Bentsen RGV State Park - Bentsen Birds
DESCRIPTION:Join a guided walk showcasing South Texas specialty birds like the Altamira Oriole\, Green Jay\, Plain Chachalaca\, and Great Kiskadee.\n\n \n\n	Bring: Sunscreen\, hat\, water\, comfortable shoes\n	Meet: Park Headquarters\, Tram Turnaround\n	Registration:  Attendance is limited.  Call 956-584-9156 or sign up at Park Headquarters to reserve your spot.\n\n\n\n\n\nView all of the Bentsen- Rio Grande Valley State Park programs for October here: BRGVSP October Program Flyer
X-ALT-DESC;FMTTYPE=text/html:<br />\n<span style="font-size:18px\;"><span style="font-size:20px\;"><span style="font-family:arial\;">Join a guided walk showcasing South Texas specialty birds like the Altamira Oriole\, Green Jay\, Plain Chachalaca\, and Great Kiskadee.</span></span></span><br />\n&nbsp\;\n<ul style="padding-right: 0px\; padding-left: 0px\; margin: 0.25em 0px 1.25em 2em\; list-style-position: initial\; list-style-image: initial\; font-family: Roboto\, sans-serif\; font-size: 1.23077rem\; line-height: 1.6em\; color: rgb(0\, 0\, 0)\;">\n	<li style="margin: 0px 0px 0.25em\; padding: 0px\; line-height: 1.5em\;"><span style="font-size:18px\;"><strong style="margin: 0px\; padding: 0px\;">Bring:&nbsp\;</strong><span style="margin: 0px\; padding: 0px\;">Sunscreen\, hat\, water\, comfortable shoes</span></span></li>\n	<li style="margin: 0px 0px 0.25em\; padding: 0px\; line-height: 1.5em\;"><span style="font-size:18px\;"><strong style="margin: 0px\; padding: 0px\;">Meet:</strong><span style="margin: 0px\; padding: 0px\;">&nbsp\;</span>Park Headquarters\, Tram Turnaround</span></li>\n	<li style="margin: 0px 0px 0.25em\; padding: 0px\; line-height: 1.5em\;"><span style="font-size:18px\;"><strong style="margin: 0px\; padding: 0px\;">Registration:&nbsp\;</strong><span style="margin: 0px\; padding: 0px\;">&nbsp\;</span>Attendance is limited.&nbsp\; Call 956-584-9156 or sign up at Park Headquarters to reserve your spot.</span></li>\n</ul>\n<br />\n<br />\n<span style="font-size:18px\;"><span style="font-size:16px\;">View all of the&nbsp\;<span style="font-family: arial\;">Bentsen- Rio Grande Valley State Park</span><strong><span style="font-family: arial\;">&nbsp\;</span></strong><span style="font-family: arial\;">programs for October here:&nbsp\;</span><a href="https://chambermaster.blob.core.windows.net/userfiles/UserFiles/chambers/3477/File/Tourism_Events/BRGVSPOctoberProgramFlyer.pdf">BRGVSP October Program Flyer</a></span></span>
LOCATION:Bentsen- Rio Grande Valley State Park 2800 S. Bentsen Palm Drive (FM 2062) Mission\, TX 78572
UID:e.3477.489
SEQUENCE:3
DTSTAMP:20260421T235741Z
URL:https://members.missionchamber.com/events/details/bentsen-rgv-state-park-bentsen-birds-489
END:VEVENT

END:VCALENDAR
